BEGIN:VCALENDAR
VERSION:2.0
PRODID:-//Contratero//ES
CALSCALE:GREGORIAN
METHOD:PUBLISH
BEGIN:VEVENT
UID:PA 63/2019@contratero.es
DTSTAMP:20260423T184805Z
DTSTART:20190719T235959
DTEND:20190720T005959
SUMMARY:Cierre: Servicio de venta de entradas para el Teatro José 
DESCRIPTION:Servicio de venta de entradas para el Teatro José María Rodero del Ayuntamiento de Torrejón de Ardoz\\n\\nOrganismo: Junta de Gobierno del Ayuntamiento de Torrejón de Ardoz\\n\\nVer en Contratero: https://contratero.es/contracts/PA 63/2019
URL:https://contratero.es/contracts/PA 63/2019
STATUS:CONFIRMED
BEGIN:VALARM
TRIGGER:-P1D
ACTION:DISPLAY
DESCRIPTION:Recordatorio: Servicio de venta de entradas 
END:VALARM
END:VEVENT
END:VCALENDAR